BEGIN:VCALENDAR
VERSION:2.0
PRODID:-//pretalx//pretalx.surf.nl//surf-research-day-2026//speaker//ND8WME
BEGIN:VTIMEZONE
TZID:CET
BEGIN:STANDARD
DTSTART:20001029T040000
RRULE:FREQ=YEARLY;BYDAY=-1SU;BYMONTH=10
TZNAME:CET
TZOFFSETFROM:+0200
TZOFFSETTO:+0100
END:STANDARD
BEGIN:DAYLIGHT
DTSTART:20000326T030000
RRULE:FREQ=YEARLY;BYDAY=-1SU;BYMONTH=3
TZNAME:CEST
TZOFFSETFROM:+0100
TZOFFSETTO:+0200
END:DAYLIGHT
END:VTIMEZONE
BEGIN:VEVENT
UID:pretalx-surf-research-day-2026-GEBXFD@pretalx.surf.nl
DTSTART;TZID=CET:20260519T131500
DTEND;TZID=CET:20260519T140000
DESCRIPTION:
DTSTAMP:20260424T042602Z
LOCATION:Hans Idzerda
SUMMARY:Connecting Minds Around Cloud-Native Research Infrastructure - Dr. 
 Serkan Girgin\, Martin Brandt\, Francesco Nattino\, Plieger\, Maarten (KNM
 I)
URL:https://pretalx.surf.nl/surf-research-day-2026/talk/GEBXFD/
END:VEVENT
END:VCALENDAR
