BEGIN:VCALENDAR
VERSION:2.0
PRODID:-//pretalx//pretalx.surf.nl//surf-research-day-2026//talk//LWU7EB
BEGIN:VTIMEZONE
TZID:CET
BEGIN:STANDARD
DTSTART:20001029T040000
RRULE:FREQ=YEARLY;BYDAY=-1SU;BYMONTH=10
TZNAME:CET
TZOFFSETFROM:+0200
TZOFFSETTO:+0100
END:STANDARD
BEGIN:DAYLIGHT
DTSTART:20000326T030000
RRULE:FREQ=YEARLY;BYDAY=-1SU;BYMONTH=3
TZNAME:CEST
TZOFFSETFROM:+0100
TZOFFSETTO:+0200
END:DAYLIGHT
END:VTIMEZONE
BEGIN:VEVENT
UID:pretalx-surf-research-day-2026-LWU7EB@pretalx.surf.nl
DTSTART;TZID=CET:20260519T133000
DTEND;TZID=CET:20260519T133000
DESCRIPTION:
DTSTAMP:20260424T042416Z
LOCATION:Showroom
SUMMARY:Synthetic Data: What are we waiting for? - Schram\, R.D. (Raoul)\, 
 Irina Motoc\, Freek Dijkstra
URL:https://pretalx.surf.nl/surf-research-day-2026/talk/LWU7EB/
END:VEVENT
END:VCALENDAR
