BEGIN:VCALENDAR
VERSION:2.0
PRODID:-//pretalx//pretalx.surf.nl//surf-research-day-2026//talk//UW33FP
BEGIN:VTIMEZONE
TZID:CET
BEGIN:STANDARD
DTSTART:20001029T040000
RRULE:FREQ=YEARLY;BYDAY=-1SU;BYMONTH=10
TZNAME:CET
TZOFFSETFROM:+0200
TZOFFSETTO:+0100
END:STANDARD
BEGIN:DAYLIGHT
DTSTART:20000326T030000
RRULE:FREQ=YEARLY;BYDAY=-1SU;BYMONTH=3
TZNAME:CEST
TZOFFSETFROM:+0100
TZOFFSETTO:+0200
END:DAYLIGHT
END:VTIMEZONE
BEGIN:VEVENT
UID:pretalx-surf-research-day-2026-UW33FP@pretalx.surf.nl
DTSTART;TZID=CET:20260519T110000
DTEND;TZID=CET:20260519T110000
DESCRIPTION:
DTSTAMP:20260424T044607Z
LOCATION:Showroom
SUMMARY:Discover the Research Data Alliance (RDA)'s hidden RDM gems! - Kim 
 Ferguson
URL:https://pretalx.surf.nl/surf-research-day-2026/talk/UW33FP/
END:VEVENT
END:VCALENDAR
