BEGIN:VCALENDAR
VERSION:2.0
PRODID:-//pretalx//pretalx.surf.nl//surf-research-day-2026//talk//W7WP7K
BEGIN:VTIMEZONE
TZID:CET
BEGIN:STANDARD
DTSTART:20001029T040000
RRULE:FREQ=YEARLY;BYDAY=-1SU;BYMONTH=10
TZNAME:CET
TZOFFSETFROM:+0200
TZOFFSETTO:+0100
END:STANDARD
BEGIN:DAYLIGHT
DTSTART:20000326T030000
RRULE:FREQ=YEARLY;BYDAY=-1SU;BYMONTH=3
TZNAME:CEST
TZOFFSETFROM:+0100
TZOFFSETTO:+0200
END:DAYLIGHT
END:VTIMEZONE
BEGIN:VEVENT
UID:pretalx-surf-research-day-2026-W7WP7K@pretalx.surf.nl
DTSTART;TZID=CET:20260519T151000
DTEND;TZID=CET:20260519T151000
DESCRIPTION:
DTSTAMP:20260424T043538Z
LOCATION:Showroom
SUMMARY:From Community Projects to Sustainable Practices: Building on TDCC-
 NES Bottleneck Projects - Dr. Serkan Girgin\, Alessandro Spinuso\, Carlos 
 Martinez-Ortiz\, Manuel Garcia Alvarez\, Errol Neo\, Burcu Beygu Koopmans
URL:https://pretalx.surf.nl/surf-research-day-2026/talk/W7WP7K/
END:VEVENT
END:VCALENDAR
